BEGIN:VCALENDAR
VERSION:2.0
PRODID:-//4 Elements Performance Training - ECPv6.15.20//NONSGML v1.0//EN
CALSCALE:GREGORIAN
METHOD:PUBLISH
X-WR-CALNAME:4 Elements Performance Training
X-ORIGINAL-URL:https://www.4elementsperformance.com
X-WR-CALDESC:Events for 4 Elements Performance Training
REFRESH-INTERVAL;VALUE=DURATION:PT1H
X-Robots-Tag:noindex
X-PUBLISHED-TTL:PT1H
BEGIN:VTIMEZONE
TZID:UTC
BEGIN:STANDARD
TZOFFSETFROM:+0000
TZOFFSETTO:+0000
TZNAME:UTC
DTSTART:20240101T000000
END:STANDARD
END:VTIMEZONE
BEGIN:VEVENT
DTSTART;TZID=UTC:20250828T212645
DTEND;TZID=UTC:20250828T212645
DTSTAMP:20260423T164719
CREATED:20150210T133305Z
LAST-MODIFIED:20250828T212644Z
UID:268-1756416405-1756416405@www.4elementsperformance.com
SUMMARY:Yin / Restorative Yoga
DESCRIPTION:This practice is all about slowing down and opening your body through passive stretching.  During the long holds your muscles are allowed to relax deeply. It's a unique feeling because props\, rather than your muscles\, are used to support your body. Class is held on every Monday at 7:45pm.
URL:https://www.4elementsperformance.com/event/yin_restorative/
LOCATION:4 Elements Performance\, 10902 Farmington Rd\, Livonia\, MI\, 48150\, United States
CATEGORIES:Yoga
END:VEVENT
END:VCALENDAR